BEGIN:VCALENDAR
VERSION:2.0
PRODID:-//Gypsy MC International - ECPv6.15.20//NONSGML v1.0//EN
CALSCALE:GREGORIAN
METHOD:PUBLISH
X-ORIGINAL-URL:https://gypsy-mc.org
X-WR-CALDESC:Events for Gypsy MC International
REFRESH-INTERVAL;VALUE=DURATION:PT1H
X-Robots-Tag:noindex
X-PUBLISHED-TTL:PT1H
BEGIN:VTIMEZONE
TZID:UTC
BEGIN:STANDARD
TZOFFSETFROM:+0000
TZOFFSETTO:+0000
TZNAME:UTC
DTSTART:20250101T000000
END:STANDARD
END:VTIMEZONE
BEGIN:VEVENT
DTSTART;VALUE=DATE:20260116
DTEND;VALUE=DATE:20260119
DTSTAMP:20260423T001642
CREATED:20251001T151136Z
LAST-MODIFIED:20251202T202823Z
UID:2001-1768521600-1768780799@gypsy-mc.org
SUMMARY:Pig in the ground – Gypsy MC Nacogdoches
DESCRIPTION:
URL:https://gypsy-mc.org/event/pig-in-the-ground-gypsy-mc-nacogdoches-2/
LOCATION:Gypsy Club House (Nac)\, 3930 FM 225\, Nacogdoches\, TX\, 75964\, United States
END:VEVENT
END:VCALENDAR