BEGIN:VCALENDAR
VERSION:2.0
PRODID:-//Gypsy MC International - ECPv6.15.20//NONSGML v1.0//EN
CALSCALE:GREGORIAN
METHOD:PUBLISH
X-ORIGINAL-URL:https://gypsy-mc.org
X-WR-CALDESC:Events for Gypsy MC International
REFRESH-INTERVAL;VALUE=DURATION:PT1H
X-Robots-Tag:noindex
X-PUBLISHED-TTL:PT1H
BEGIN:VTIMEZONE
TZID:UTC
BEGIN:STANDARD
TZOFFSETFROM:+0000
TZOFFSETTO:+0000
TZNAME:UTC
DTSTART:20250101T000000
END:STANDARD
END:VTIMEZONE
BEGIN:VEVENT
DTSTART;VALUE=DATE:20260220
DTEND;VALUE=DATE:20260223
DTSTAMP:20260422T224636
CREATED:20251001T152504Z
LAST-MODIFIED:20251001T160227Z
UID:2007-1771545600-1771804799@gypsy-mc.org
SUMMARY:5th Annual Wild WooHoo Run – Gypsy MC Woodville
DESCRIPTION:
URL:https://gypsy-mc.org/event/5th-annual-wild-woohoo-run-gypsy-mc-woodville/
LOCATION:Riley Ranch\, 996 CR 1096\, woodville\, TX\, United States
END:VEVENT
END:VCALENDAR