BEGIN:VCALENDAR
VERSION:2.0
PRODID:-//Gypsy MC International - ECPv6.15.20//NONSGML v1.0//EN
CALSCALE:GREGORIAN
METHOD:PUBLISH
X-WR-CALNAME:Gypsy MC International
X-ORIGINAL-URL:https://gypsy-mc.org
X-WR-CALDESC:Events for Gypsy MC International
REFRESH-INTERVAL;VALUE=DURATION:PT1H
X-Robots-Tag:noindex
X-PUBLISHED-TTL:PT1H
BEGIN:VTIMEZONE
TZID:UTC
BEGIN:STANDARD
TZOFFSETFROM:+0000
TZOFFSETTO:+0000
TZNAME:UTC
DTSTART:20250101T000000
END:STANDARD
END:VTIMEZONE
BEGIN:VEVENT
DTSTART;VALUE=DATE:20260327
DTEND;VALUE=DATE:20260330
DTSTAMP:20260420T050545
CREATED:20251001T153223Z
LAST-MODIFIED:20260315T183157Z
UID:2015-1774569600-1774828799@gypsy-mc.org
SUMMARY:Run To Da Bayou - CANCELED – Gypsy MC Lake Charles
DESCRIPTION:EVENT CANCELED
URL:https://gypsy-mc.org/event/run-to-da-bayou-gypsy-mc-lake-charles-2/
LOCATION:TX
END:VEVENT
END:VCALENDAR