BEGIN:VCALENDAR
VERSION:2.0
PRODID:-//Gypsy MC International - ECPv6.15.20//NONSGML v1.0//EN
CALSCALE:GREGORIAN
METHOD:PUBLISH
X-ORIGINAL-URL:https://gypsy-mc.org
X-WR-CALDESC:Events for Gypsy MC International
REFRESH-INTERVAL;VALUE=DURATION:PT1H
X-Robots-Tag:noindex
X-PUBLISHED-TTL:PT1H
BEGIN:VTIMEZONE
TZID:UTC
BEGIN:STANDARD
TZOFFSETFROM:+0000
TZOFFSETTO:+0000
TZNAME:UTC
DTSTART:20250101T000000
END:STANDARD
END:VTIMEZONE
BEGIN:VEVENT
DTSTART;VALUE=DATE:20260501
DTEND;VALUE=DATE:20260504
DTSTAMP:20260420T010130
CREATED:20251001T154055Z
LAST-MODIFIED:20260403T141744Z
UID:2023-1777593600-1777852799@gypsy-mc.org
SUMMARY:Nacho Momma Longhorn Run – CANCELED - Gypsy MC Hebbronville
DESCRIPTION:CANCELED
URL:https://gypsy-mc.org/event/nacho-momma-longhorn-run-gypsy-mc-hebbronville-2/
LOCATION:Hebbronville Fairgrounds\, 300 W Martinez Dr\, Hebbronville\, TX\, 78361\, United States
ORGANIZER;CN="Gypsy Cornbread":MAILTO:HebbronvilleGypsy@gmail.com
END:VEVENT
END:VCALENDAR