BEGIN:VCALENDAR
VERSION:2.0
PRODID:-//Gypsy MC International - ECPv6.15.20//NONSGML v1.0//EN
CALSCALE:GREGORIAN
METHOD:PUBLISH
X-WR-CALNAME:Gypsy MC International
X-ORIGINAL-URL:https://gypsy-mc.org
X-WR-CALDESC:Events for Gypsy MC International
REFRESH-INTERVAL;VALUE=DURATION:PT1H
X-Robots-Tag:noindex
X-PUBLISHED-TTL:PT1H
BEGIN:VTIMEZONE
TZID:UTC
BEGIN:STANDARD
TZOFFSETFROM:+0000
TZOFFSETTO:+0000
TZNAME:UTC
DTSTART:20250101T000000
END:STANDARD
END:VTIMEZONE
BEGIN:VEVENT
DTSTART;VALUE=DATE:20260814
DTEND;VALUE=DATE:20260817
DTSTAMP:20260422T223406
CREATED:20251010T183946Z
LAST-MODIFIED:20260220T152957Z
UID:2068-1786665600-1786924799@gypsy-mc.org
SUMMARY:Dark & Dirty – Gypsy MC Round Rock
DESCRIPTION:
URL:https://gypsy-mc.org/event/dark-dirty-gypsy-mc-round-rock-2/
LOCATION:Armstrong Community Center\, 7800 Armstrong Rd\, Belton\, TX\, 76513\, United States
END:VEVENT
END:VCALENDAR