BEGIN:VCALENDAR
VERSION:2.0
PRODID:-//Gypsy MC International - ECPv6.15.20//NONSGML v1.0//EN
CALSCALE:GREGORIAN
METHOD:PUBLISH
X-WR-CALNAME:Gypsy MC International
X-ORIGINAL-URL:https://gypsy-mc.org
X-WR-CALDESC:Events for Gypsy MC International
REFRESH-INTERVAL;VALUE=DURATION:PT1H
X-Robots-Tag:noindex
X-PUBLISHED-TTL:PT1H
BEGIN:VTIMEZONE
TZID:UTC
BEGIN:STANDARD
TZOFFSETFROM:+0000
TZOFFSETTO:+0000
TZNAME:UTC
DTSTART:20230101T000000
END:STANDARD
END:VTIMEZONE
BEGIN:VEVENT
DTSTART;VALUE=DATE:20250510
DTEND;VALUE=DATE:20250511
DTSTAMP:20260425T152546
CREATED:20250129T210727Z
LAST-MODIFIED:20250218T234844Z
UID:1791-1746835200-1746921599@gypsy-mc.org
SUMMARY:Iron Butt - Gypsy MC Dawson
DESCRIPTION:
URL:https://gypsy-mc.org/event/iron-butt-gypsy-dawson/
LOCATION:TX
END:VEVENT
BEGIN:VEVENT
DTSTART;VALUE=DATE:20250502
DTEND;VALUE=DATE:20250505
DTSTAMP:20260425T152546
CREATED:20241115T224625Z
LAST-MODIFIED:20250324T233321Z
UID:1468-1746144000-1746403199@gypsy-mc.org
SUMMARY:Nacho Momma Longhorn Run - Gypsy MC Hebbronville
DESCRIPTION:  \n==============>LINK TO REGISTRATION FORM<=========
URL:https://gypsy-mc.org/event/nacho-momma-longhorn-run-gypsy-mc-hebbronville/
LOCATION:Comanche Crossing\, 2080 FM 477\, Seguin\, TX\, 78155\, United States
ORGANIZER;CN="Gypsy Cornbread":MAILTO:HebbronvilleGypsy@gmail.com
END:VEVENT
BEGIN:VEVENT
DTSTART;VALUE=DATE:20250425
DTEND;VALUE=DATE:20250428
DTSTAMP:20260425T152546
CREATED:20250204T205525Z
LAST-MODIFIED:20250207T023255Z
UID:1811-1745539200-1745798399@gypsy-mc.org
SUMMARY:37th Annual Run for the Border - Gypsy MC Laredo
DESCRIPTION:
URL:https://gypsy-mc.org/event/37th-annual-run-for-the-border-gypsy-mc-laredo/
LOCATION:Beacon Lodge\, 313 Lake Shore Dr\, Zapata\, TX\, 78076\, United States
END:VEVENT
BEGIN:VEVENT
DTSTART;VALUE=DATE:20250425
DTEND;VALUE=DATE:20250428
DTSTAMP:20260425T152546
CREATED:20241219T221233Z
LAST-MODIFIED:20241219T221233Z
UID:1714-1745539200-1745798399@gypsy-mc.org
SUMMARY:3rd Annual Pickle Party - Gypsy MC Weatherford
DESCRIPTION:
URL:https://gypsy-mc.org/event/3rd-annual-pickle-party-gypsy-mc-weatherford/
LOCATION:VFW Post 7835\, 3670 W US Hwy 377\, Granbury\, TX\, 76048\, United States
END:VEVENT
BEGIN:VEVENT
DTSTART;VALUE=DATE:20250418
DTEND;VALUE=DATE:20250421
DTSTAMP:20260425T152546
CREATED:20241115T224025Z
LAST-MODIFIED:20250212T163944Z
UID:1466-1744934400-1745193599@gypsy-mc.org
SUMMARY:7th Annual Big Dill Bunny Bash - Gypsy MC Gatesville
DESCRIPTION:
URL:https://gypsy-mc.org/event/big-dill-bunny-bash-gypsy-mc-gatesville/
LOCATION:Armstrong Community Center\, 7800 Armstrong Rd\, Belton\, TX\, 76513\, United States
END:VEVENT
BEGIN:VEVENT
DTSTART;TZID=UTC:20250405T110000
DTEND;TZID=UTC:20250405T170000
DTSTAMP:20260425T152546
CREATED:20250307T224943Z
LAST-MODIFIED:20250307T224943Z
UID:1878-1743850800-1743872400@gypsy-mc.org
SUMMARY:2nd Annual Gypsy Pickle Poker Run - Gypsy MC Wichita
DESCRIPTION:
URL:https://gypsy-mc.org/event/2nd-annual-gypsy-pickle-poker-run-gypsy-mc-wichita/
LOCATION:A&J’s Music Room\, 1602 S Meridian Ave\, Witchita\, KS\, 67213\, United States
END:VEVENT
BEGIN:VEVENT
DTSTART;VALUE=DATE:20250405
DTEND;VALUE=DATE:20250406
DTSTAMP:20260425T152546
CREATED:20241115T223920Z
LAST-MODIFIED:20250218T230744Z
UID:1464-1743811200-1743897599@gypsy-mc.org
SUMMARY:Rat's Bug Bash - Gypsy MC Big D
DESCRIPTION:
URL:https://gypsy-mc.org/event/rats-bug-bash-gypsy-mc-big-d/
LOCATION:Duck Cove Marina & RV Park\, 2757 Private RD 3824\, Quinlan\, TX\, 75474\, United States
END:VEVENT
BEGIN:VEVENT
DTSTART;VALUE=DATE:20250328
DTEND;VALUE=DATE:20250331
DTSTAMP:20260425T152546
CREATED:20241115T223833Z
LAST-MODIFIED:20250311T223411Z
UID:1462-1743120000-1743379199@gypsy-mc.org
SUMMARY:Motors\, Music\, Mayhem - Gypsy MC Moscow
DESCRIPTION:
URL:https://gypsy-mc.org/event/motors-music-mayhem-gypsy-mc-moscow/
LOCATION:American Legion Post 402\, 6380 Highway 190 W\, Livingston\, TX\, 77351\, United States
END:VEVENT
BEGIN:VEVENT
DTSTART;VALUE=DATE:20250321
DTEND;VALUE=DATE:20250324
DTSTAMP:20260425T152546
CREATED:20241115T223738Z
LAST-MODIFIED:20250309T155545Z
UID:1460-1742515200-1742774399@gypsy-mc.org
SUMMARY:Run To Da Bayou - Gypsy MC Lake Charles
DESCRIPTION:
URL:https://gypsy-mc.org/event/run-to-da-bayou-gypsy-mc-lake-charles/
LOCATION:Lacassine Community Center\, 310 Community Center Rd\, Welsh\, LA\, 70591\, United States
END:VEVENT
BEGIN:VEVENT
DTSTART;VALUE=DATE:20250314
DTEND;VALUE=DATE:20250317
DTSTAMP:20260425T152546
CREATED:20241115T223538Z
LAST-MODIFIED:20250224T214220Z
UID:1454-1741910400-1742169599@gypsy-mc.org
SUMMARY:48th Annual - St. Patrick's Day Rally - Gypsy MC Del Rio
DESCRIPTION:
URL:https://gypsy-mc.org/event/48th-annual-st-patricks-day-rally-gypsy-mc-del-rio/
LOCATION:ELKS LODGE 837\, 421 San Felipe Springs Rd\, Del Rio\, TX\, 78840\, United States
ORGANIZER;CN="Gypsy HI BEAM":MAILTO:dmjameson1956@yahoo.com
END:VEVENT
BEGIN:VEVENT
DTSTART;VALUE=DATE:20250307
DTEND;VALUE=DATE:20250310
DTSTAMP:20260425T152546
CREATED:20241115T222606Z
LAST-MODIFIED:20250207T021244Z
UID:1452-1741305600-1741564799@gypsy-mc.org
SUMMARY:30th Annual Fiesta Run - Gypsy MC La Feria
DESCRIPTION:
URL:https://gypsy-mc.org/event/fiesta-run-gypsy-mc-la-feria/
LOCATION:The Texas Rose Bar\, 13754 US-83 E BUS\, La Feria\, TX\, 78559\, United States
END:VEVENT
BEGIN:VEVENT
DTSTART;TZID=UTC:20250301T150000
DTEND;TZID=UTC:20250301T180000
DTSTAMP:20260425T152546
CREATED:20250213T170315Z
LAST-MODIFIED:20251010T183514Z
UID:1852-1740841200-1740852000@gypsy-mc.org
SUMMARY:Chili Cook Off - Gypsy MC Wichita
DESCRIPTION:
URL:https://gypsy-mc.org/event/chill-cook-off-gypsy-mc-wichita/
LOCATION:O.J. Watson Park\, Shelter #6\, 3022 S. McLean Blv.\, Wichita\, KS\, 67217\, United States
END:VEVENT
BEGIN:VEVENT
DTSTART;TZID=UTC:20250301T103000
DTEND;TZID=UTC:20250301T170000
DTSTAMP:20260425T152546
CREATED:20241230T221004Z
LAST-MODIFIED:20241231T153859Z
UID:1741-1740825000-1740848400@gypsy-mc.org
SUMMARY:29th Annual - Hawg's Still Goin' Rally and Pub Crawl - Gypsy MC Hill Country
DESCRIPTION:
URL:https://gypsy-mc.org/event/29th-annual-hawgs-still-goin-rally-and-pub-crawl/
LOCATION:Tj’s @ The Old Forge\, 807 Main St\, Bandera\, TX\, 78003\, United States
END:VEVENT
BEGIN:VEVENT
DTSTART;VALUE=DATE:20250222
DTEND;VALUE=DATE:20250223
DTSTAMP:20260425T152546
CREATED:20241115T222359Z
LAST-MODIFIED:20250109T194226Z
UID:1450-1740182400-1740268799@gypsy-mc.org
SUMMARY:Fallen Brother - Gypsy MC Fallen Brother Representatives
DESCRIPTION:Flyer Link
URL:https://gypsy-mc.org/event/fallen-brother-gypsy-mc-fallen-brother-representatives/
LOCATION:Comanche Crossing\, 2080 FM 477\, Seguin\, TX\, 78155\, United States
END:VEVENT
BEGIN:VEVENT
DTSTART;VALUE=DATE:20250215
DTEND;VALUE=DATE:20250216
DTSTAMP:20260425T152546
CREATED:20241115T222257Z
LAST-MODIFIED:20250208T151613Z
UID:1448-1739577600-1739663999@gypsy-mc.org
SUMMARY:4th Annual Wild WooHoo Run - Gypsy MC Woodville
DESCRIPTION:
URL:https://gypsy-mc.org/event/woohoo-run-gypsy-mc-woodville/
LOCATION:WO’s Friendly Tavern\, 1179 1499 Gore Store Rd\, Warren\, TX\, 77664\, United States
END:VEVENT
BEGIN:VEVENT
DTSTART;VALUE=DATE:20250207
DTEND;VALUE=DATE:20250210
DTSTAMP:20260425T152546
CREATED:20241115T222149Z
LAST-MODIFIED:20241219T231204Z
UID:1446-1738886400-1739145599@gypsy-mc.org
SUMMARY:St. Valentines Day Massacre - Gypsy MC Alamo City
DESCRIPTION:Registration Form
URL:https://gypsy-mc.org/event/st-valentines-day-massacre-gypsy-mc-alamo-city/
LOCATION:Kendall County Equestrian Center\, 648 FM 289\, Comfort\, TX\, 78013\, United States
END:VEVENT
BEGIN:VEVENT
DTSTART;VALUE=DATE:20250117
DTEND;VALUE=DATE:20250120
DTSTAMP:20260425T152546
CREATED:20241115T221949Z
LAST-MODIFIED:20241230T222741Z
UID:1444-1737072000-1737331199@gypsy-mc.org
SUMMARY:Pig in the ground - Gypsy MC Nacogdoches
DESCRIPTION:
URL:https://gypsy-mc.org/event/pig-in-the-ground-gypsy-mc-nacogdoches/
LOCATION:Gypsy Club House (Nac)\, 3930 FM 225\, Nacogdoches\, TX\, 75964\, United States
END:VEVENT
BEGIN:VEVENT
DTSTART;TZID=UTC:20241222T100000
DTEND;TZID=UTC:20241222T150000
DTSTAMP:20260425T152546
CREATED:20241220T225955Z
LAST-MODIFIED:20241220T225955Z
UID:1731-1734861600-1734879600@gypsy-mc.org
SUMMARY:Toy Run - Gypsy MC Fort Bend
DESCRIPTION:
URL:https://gypsy-mc.org/event/toy-run-gypsy-mc-fort-bend/
LOCATION:wild west motoplex\, 22515 Katy Fwy\, Katy\, TX\, 77450\, United States
END:VEVENT
END:VCALENDAR