BEGIN:VCALENDAR
VERSION:2.0
PRODID:-//Gypsy MC International - ECPv6.15.20//NONSGML v1.0//EN
CALSCALE:GREGORIAN
METHOD:PUBLISH
X-WR-CALNAME:Gypsy MC International
X-ORIGINAL-URL:https://gypsy-mc.org
X-WR-CALDESC:Events for Gypsy MC International
REFRESH-INTERVAL;VALUE=DURATION:PT1H
X-Robots-Tag:noindex
X-PUBLISHED-TTL:PT1H
BEGIN:VTIMEZONE
TZID:UTC
BEGIN:STANDARD
TZOFFSETFROM:+0000
TZOFFSETTO:+0000
TZNAME:UTC
DTSTART:20240101T000000
END:STANDARD
END:VTIMEZONE
BEGIN:VEVENT
DTSTART;VALUE=DATE:20260612
DTEND;VALUE=DATE:20260615
DTSTAMP:20260422T224947
CREATED:20251001T154315Z
LAST-MODIFIED:20251229T213446Z
UID:2025-1781222400-1781481599@gypsy-mc.org
SUMMARY:12th Annual Crossroads Rally – Gypsy MC Crossroads
DESCRIPTION:Screenshot
URL:https://gypsy-mc.org/event/12th-annual-crossroads-rally-gypsy-mc-crossroads/
LOCATION:179 Church St\, 179 Church St\, Victoria\, TX\, 77905\, United States
END:VEVENT
BEGIN:VEVENT
DTSTART;VALUE=DATE:20260516
DTEND;VALUE=DATE:20260517
DTSTAMP:20260422T224947
CREATED:20260113T235815Z
LAST-MODIFIED:20260113T235815Z
UID:2153-1778889600-1778975999@gypsy-mc.org
SUMMARY:Iron Butt - Gypsy MC Dawson
DESCRIPTION:
URL:https://gypsy-mc.org/event/iron-butt-gypsy-mc-dawson/
LOCATION:TX
END:VEVENT
BEGIN:VEVENT
DTSTART;VALUE=DATE:20260509
DTEND;VALUE=DATE:20260510
DTSTAMP:20260422T224947
CREATED:20260106T003204Z
LAST-MODIFIED:20260106T003204Z
UID:2130-1778284800-1778371199@gypsy-mc.org
SUMMARY:2nd Annual Shoot Out - Gypsy MC Maize
DESCRIPTION:
URL:https://gypsy-mc.org/event/2nd-annual-shoot-out-gypsy-mc-maize/
LOCATION:Lake Afton Range\, 2500 W. MacArthur Rd.\, Goddard\, KS\, 67052\, United States
END:VEVENT
BEGIN:VEVENT
DTSTART;VALUE=DATE:20260501
DTEND;VALUE=DATE:20260504
DTSTAMP:20260422T224947
CREATED:20251001T154055Z
LAST-MODIFIED:20260403T141744Z
UID:2023-1777593600-1777852799@gypsy-mc.org
SUMMARY:Nacho Momma Longhorn Run – CANCELED - Gypsy MC Hebbronville
DESCRIPTION:CANCELED
URL:https://gypsy-mc.org/event/nacho-momma-longhorn-run-gypsy-mc-hebbronville-2/
LOCATION:Hebbronville Fairgrounds\, 300 W Martinez Dr\, Hebbronville\, TX\, 78361\, United States
ORGANIZER;CN="Gypsy Cornbread":MAILTO:HebbronvilleGypsy@gmail.com
END:VEVENT
BEGIN:VEVENT
DTSTART;VALUE=DATE:20260424
DTEND;VALUE=DATE:20260427
DTSTAMP:20260422T224947
CREATED:20251001T153854Z
LAST-MODIFIED:20260324T210652Z
UID:2021-1776988800-1777247999@gypsy-mc.org
SUMMARY:38th Annual Run for the Border - Gypsy MC Laredo
DESCRIPTION:
URL:https://gypsy-mc.org/event/38th-annual-run-for-the-border-gypsy-mc-laredo/
LOCATION:Beacon Lodge\, 313 Lake Shore Dr\, Zapata\, TX\, 78076\, United States
END:VEVENT
BEGIN:VEVENT
DTSTART;VALUE=DATE:20260417
DTEND;VALUE=DATE:20260420
DTSTAMP:20260422T224947
CREATED:20251001T153620Z
LAST-MODIFIED:20260120T231500Z
UID:2019-1776384000-1776643199@gypsy-mc.org
SUMMARY:4th Annual Pickle Party – Gypsy MC Weatherford
DESCRIPTION:
URL:https://gypsy-mc.org/event/4th-annual-pickle-party-gypsy-mc-weatherford/
LOCATION:VFW Post 7835\, 3670 W US Hwy 377\, Granbury\, TX\, 76048\, United States
END:VEVENT
BEGIN:VEVENT
DTSTART;VALUE=DATE:20260411
DTEND;VALUE=DATE:20260412
DTSTAMP:20260422T224947
CREATED:20260306T195447Z
LAST-MODIFIED:20260306T195447Z
UID:2184-1775865600-1775951999@gypsy-mc.org
SUMMARY:Fish Fry Fest - Gypsy MC Beaumont
DESCRIPTION:
URL:https://gypsy-mc.org/event/fish-fry-fest-gypsy-mc-beaumont/
LOCATION:Texas Rose Saloon\, 2013 S M L King Jr Pkwy\, Beaumont\, TX\, 77701\, United States
END:VEVENT
BEGIN:VEVENT
DTSTART;VALUE=DATE:20260411
DTEND;VALUE=DATE:20260412
DTSTAMP:20260422T224947
CREATED:20260114T000541Z
LAST-MODIFIED:20260315T183107Z
UID:2155-1775865600-1775951999@gypsy-mc.org
SUMMARY:3rd Annual Rat's Bug Bash - Gypsy MC Big D
DESCRIPTION:
URL:https://gypsy-mc.org/event/3rd-annual-rats-bug-bash-gypsy-mc-big-d/
LOCATION:River Club\, 15523 US-80\, Forney\, TX\, 75126\, United States
END:VEVENT
BEGIN:VEVENT
DTSTART;VALUE=DATE:20260411
DTEND;VALUE=DATE:20260412
DTSTAMP:20260422T224947
CREATED:20251010T183403Z
LAST-MODIFIED:20260306T200210Z
UID:2060-1775865600-1775951999@gypsy-mc.org
SUMMARY:3rd Annual Gypsy Pickle Poker Run – Gypsy MC Wichita
DESCRIPTION:
URL:https://gypsy-mc.org/event/3rd-annual-gypsy-pickle-poker-run-gypsy-mc-wichita/
LOCATION:Whiskey Dicks Bar and Grill\, 801 S. Seneca St.\, Wichita\, 673213\, United States
END:VEVENT
BEGIN:VEVENT
DTSTART;VALUE=DATE:20260403
DTEND;VALUE=DATE:20260406
DTSTAMP:20260422T224947
CREATED:20251001T153339Z
LAST-MODIFIED:20260120T231016Z
UID:2017-1775174400-1775433599@gypsy-mc.org
SUMMARY:8th Annual Big Dill Bunny Bash – Gypsy MC Gatesville
DESCRIPTION:
URL:https://gypsy-mc.org/event/8th-annual-big-dill-bunny-bash-gypsy-mc-gatesville/
LOCATION:Armstrong Community Center\, 7800 Armstrong Rd\, Belton\, TX\, 76513\, United States
END:VEVENT
BEGIN:VEVENT
DTSTART;VALUE=DATE:20260327
DTEND;VALUE=DATE:20260330
DTSTAMP:20260422T224947
CREATED:20251001T153223Z
LAST-MODIFIED:20260315T183157Z
UID:2015-1774569600-1774828799@gypsy-mc.org
SUMMARY:Run To Da Bayou - CANCELED – Gypsy MC Lake Charles
DESCRIPTION:EVENT CANCELED
URL:https://gypsy-mc.org/event/run-to-da-bayou-gypsy-mc-lake-charles-2/
LOCATION:TX
END:VEVENT
BEGIN:VEVENT
DTSTART;VALUE=DATE:20260321
DTEND;VALUE=DATE:20260322
DTSTAMP:20260422T224947
CREATED:20251030T143113Z
LAST-MODIFIED:20251112T144510Z
UID:2089-1774051200-1774137599@gypsy-mc.org
SUMMARY:30th Annual - Hawg's Still Goin' Rally and Pub Crawl - Gypsy MC Hill Country
DESCRIPTION:
URL:https://gypsy-mc.org/event/30th-annual-hawgs-still-goin-rally-and-pub-crawl-gypsy-mc-hill-country/
LOCATION:Tj’s @ The Old Forge\, 807 Main St\, Bandera\, TX\, 78003\, United States
END:VEVENT
BEGIN:VEVENT
DTSTART;VALUE=DATE:20260313
DTEND;VALUE=DATE:20260316
DTSTAMP:20260422T224947
CREATED:20251001T153129Z
LAST-MODIFIED:20251001T153129Z
UID:2013-1773360000-1773619199@gypsy-mc.org
SUMMARY:Motors\, Music\, Mayhem – Gypsy MC Moscow
DESCRIPTION:
URL:https://gypsy-mc.org/event/motors-music-mayhem-gypsy-mc-moscow-2/
LOCATION:TX
END:VEVENT
BEGIN:VEVENT
DTSTART;VALUE=DATE:20260306
DTEND;VALUE=DATE:20260309
DTSTAMP:20260422T224947
CREATED:20251001T152932Z
LAST-MODIFIED:20251003T150057Z
UID:2011-1772755200-1773014399@gypsy-mc.org
SUMMARY:31st Annual Fiesta Run – Gypsy MC La Feria
DESCRIPTION:
URL:https://gypsy-mc.org/event/31st-annual-fiesta-run-gypsy-mc-la-feria/
LOCATION:The Texas Rose Bar\, 13754 US-83 E BUS\, La Feria\, TX\, 78559\, United States
END:VEVENT
BEGIN:VEVENT
DTSTART;VALUE=DATE:20260228
DTEND;VALUE=DATE:20260301
DTSTAMP:20260422T224947
CREATED:20251010T183620Z
LAST-MODIFIED:20260130T172712Z
UID:2063-1772236800-1772323199@gypsy-mc.org
SUMMARY:CANCELED - Chili Cook Off - Gypsy MC Wichita - CANCELED
DESCRIPTION:CANCELED
URL:https://gypsy-mc.org/event/chili-cook-off-gypsy-mc-wichita/
LOCATION:TX
END:VEVENT
BEGIN:VEVENT
DTSTART;VALUE=DATE:20260228
DTEND;VALUE=DATE:20260301
DTSTAMP:20260422T224947
CREATED:20251001T152619Z
LAST-MODIFIED:20251229T214603Z
UID:2009-1772236800-1772323199@gypsy-mc.org
SUMMARY:Fallen Brother – Gypsy MC Fallen Brother Representatives
DESCRIPTION:
URL:https://gypsy-mc.org/event/fallen-brother-gypsy-mc-fallen-brother-representatives-2/
LOCATION:Comanche Crossing\, 2080 FM 477\, Seguin\, TX\, 78155\, United States
END:VEVENT
BEGIN:VEVENT
DTSTART;VALUE=DATE:20260220
DTEND;VALUE=DATE:20260223
DTSTAMP:20260422T224947
CREATED:20251001T152504Z
LAST-MODIFIED:20251001T160227Z
UID:2007-1771545600-1771804799@gypsy-mc.org
SUMMARY:5th Annual Wild WooHoo Run – Gypsy MC Woodville
DESCRIPTION:
URL:https://gypsy-mc.org/event/5th-annual-wild-woohoo-run-gypsy-mc-woodville/
LOCATION:Riley Ranch\, 996 CR 1096\, woodville\, TX\, United States
END:VEVENT
BEGIN:VEVENT
DTSTART;VALUE=DATE:20260206
DTEND;VALUE=DATE:20260209
DTSTAMP:20260422T224947
CREATED:20251001T151833Z
LAST-MODIFIED:20251001T152255Z
UID:2003-1770336000-1770595199@gypsy-mc.org
SUMMARY:49th St. Valentines Day Massacre – Gypsy MC Alamo City
DESCRIPTION:
URL:https://gypsy-mc.org/event/49th-st-valentines-day-massacre-gypsy-mc-alamo-city/
LOCATION:Kendall County Equestrian Center\, 648 FM 289\, Comfort\, TX\, 78013\, United States
END:VEVENT
BEGIN:VEVENT
DTSTART;VALUE=DATE:20260124
DTEND;VALUE=DATE:20260125
DTSTAMP:20260422T224947
CREATED:20260112T235430Z
LAST-MODIFIED:20260112T235941Z
UID:2136-1769212800-1769299199@gypsy-mc.org
SUMMARY:Celebration of life for James "Roadrunner" Simerly
DESCRIPTION:The memorial will be held at the VFW Post 2059 in Kirby off of Ackerman road on January 24\, 2026. The address for the VFW is 3202 Ackerman Rd\, Kirby\, TX.\n  \nThe service will start at 1:00 pm. Please arrive early. \nFollowing the service\, there will be a meal served in the hall. Tea/Sweet tea will be available with the meal. All other drinks\, including alcohol\, can be purchased from the VFW bars. No outside alcohol is allowed. \nIf you’re coming from outside of the San Antonio area\, the three closest hotels are as follows: \nHoliday Inn Express ihg.com 726-226-0087 \nLa Quinta wyndhamhotels.com 210-706-0925 \nComfort Inn choicehotels.com 210-661-4545
URL:https://gypsy-mc.org/event/celebration-of-life-for-james-roadrunner-simerly/
LOCATION:VFW Post 2059\, 3202 Ackerman Rd\, Kirby\, TX\, 78219\, United States
END:VEVENT
BEGIN:VEVENT
DTSTART;VALUE=DATE:20260116
DTEND;VALUE=DATE:20260119
DTSTAMP:20260422T224947
CREATED:20251001T151136Z
LAST-MODIFIED:20251202T202823Z
UID:2001-1768521600-1768780799@gypsy-mc.org
SUMMARY:Pig in the ground – Gypsy MC Nacogdoches
DESCRIPTION:
URL:https://gypsy-mc.org/event/pig-in-the-ground-gypsy-mc-nacogdoches-2/
LOCATION:Gypsy Club House (Nac)\, 3930 FM 225\, Nacogdoches\, TX\, 75964\, United States
END:VEVENT
BEGIN:VEVENT
DTSTART;VALUE=DATE:20251221
DTEND;VALUE=DATE:20251222
DTSTAMP:20260422T224947
CREATED:20251010T151458Z
LAST-MODIFIED:20251010T151458Z
UID:2039-1766275200-1766361599@gypsy-mc.org
SUMMARY:Toy Run - Gypsy MC Fort Bend
DESCRIPTION:
URL:https://gypsy-mc.org/event/toy-run-gypsy-mc-fort-bend-2/
LOCATION:wild west motoplex\, 22515 Katy Fwy\, Katy\, TX\, 77450\, United States
END:VEVENT
BEGIN:VEVENT
DTSTART;VALUE=DATE:20251206
DTEND;VALUE=DATE:20251207
DTSTAMP:20260422T224947
CREATED:20241115T230835Z
LAST-MODIFIED:20251123T164536Z
UID:1498-1764979200-1765065599@gypsy-mc.org
SUMMARY:58th Annual Monty Mann Memorial Run - Gypsy MC San Antonio Area Chapters
DESCRIPTION:
URL:https://gypsy-mc.org/event/58th-annual-monty-mann-memorial-run-gypsy-mc-san-antonio-area-chapters/
LOCATION:VFW Post 2059\, 3202 Ackerman Rd\, Kirby\, TX\, 78219\, United States
END:VEVENT
BEGIN:VEVENT
DTSTART;VALUE=DATE:20251115
DTEND;VALUE=DATE:20251116
DTSTAMP:20260422T224947
CREATED:20250429T215333Z
LAST-MODIFIED:20251001T150447Z
UID:1947-1763164800-1763251199@gypsy-mc.org
SUMMARY:Toy Run - Gypsy MC Corpus Christi
DESCRIPTION:
URL:https://gypsy-mc.org/event/toy-run-gypsy-mc-corpus-christi/
LOCATION:Lou’s Saloon\, 5101 Leopard St.\, Corpus Christi\, TX\, 78404\, United States
END:VEVENT
BEGIN:VEVENT
DTSTART;VALUE=DATE:20251114
DTEND;VALUE=DATE:20251117
DTSTAMP:20260422T224947
CREATED:20250207T021730Z
LAST-MODIFIED:20250207T021730Z
UID:1828-1763078400-1763337599@gypsy-mc.org
SUMMARY:2nd Annual Wild West Run - Gypsy MC West
DESCRIPTION:
URL:https://gypsy-mc.org/event/2nd-annual-wild-west-run-gypsy-mc-west/
LOCATION:American Legion Post 121\, 722 Leroy Pkwy\, Elm Mott\, TX\, 76640\, United States
END:VEVENT
BEGIN:VEVENT
DTSTART;TZID=UTC:20251108T120000
DTEND;TZID=UTC:20251108T180000
DTSTAMP:20260422T224947
CREATED:20250411T201058Z
LAST-MODIFIED:20250411T201318Z
UID:1934-1762603200-1762624800@gypsy-mc.org
SUMMARY:Veterans Day Celebration - Gypsy MC Beaumont
DESCRIPTION:
URL:https://gypsy-mc.org/event/veterans-day-celebration-gypsy-mc-beaumont/
LOCATION:WO’s Friendly Tavern\, 1179 1499 Gore Store Rd\, Warren\, TX\, 77664\, United States
END:VEVENT
BEGIN:VEVENT
DTSTART;VALUE=DATE:20251024
DTEND;VALUE=DATE:20251027
DTSTAMP:20260422T224947
CREATED:20241115T230559Z
LAST-MODIFIED:20250520T213439Z
UID:1496-1761264000-1761523199@gypsy-mc.org
SUMMARY:2nd Annual Halloween Not 2 Hot Run - Gypsy MC Corpus Christi
DESCRIPTION:
URL:https://gypsy-mc.org/event/2nd-annual-halloween-rally-gypsy-mc-corpus-christi/
LOCATION:Knights of Columbus Patio\, 1000 Cecilia St.\, Alice\, TX\, 78332\, United States
END:VEVENT
BEGIN:VEVENT
DTSTART;VALUE=DATE:20251017
DTEND;VALUE=DATE:20251020
DTSTAMP:20260422T224947
CREATED:20241115T230405Z
LAST-MODIFIED:20250904T220936Z
UID:1494-1760659200-1760918399@gypsy-mc.org
SUMMARY:Nactoberfest - Gypsy MC Nacogdoches
DESCRIPTION:
URL:https://gypsy-mc.org/event/nactoberfest-gypsy-mc-nacogdoches/
LOCATION:Gypsy Club House (Nac)\, 3930 FM 225\, Nacogdoches\, TX\, 75964\, United States
END:VEVENT
BEGIN:VEVENT
DTSTART;VALUE=DATE:20251010
DTEND;VALUE=DATE:20251013
DTSTAMP:20260422T224947
CREATED:20241230T221230Z
LAST-MODIFIED:20250401T232753Z
UID:1743-1760054400-1760313599@gypsy-mc.org
SUMMARY:46th Annual Knockout Rally - Gypsy MC Hill Country
DESCRIPTION:
URL:https://gypsy-mc.org/event/46th-annual-knockout-rally-gypsy-mc-hill-country/
LOCATION:Mansfield Park\, 2886 TX-16\, Bandera\, TX\, 78003\, United States
END:VEVENT
BEGIN:VEVENT
DTSTART;VALUE=DATE:20251003
DTEND;VALUE=DATE:20251006
DTSTAMP:20260422T224947
CREATED:20250115T152227Z
LAST-MODIFIED:20250731T202632Z
UID:1781-1759449600-1759708799@gypsy-mc.org
SUMMARY:27th Annual Falldown - Gypsy MC League City
DESCRIPTION:
URL:https://gypsy-mc.org/event/27th-annual-falldown-gypsy-league-city/
LOCATION:Galveston County Fairgrounds\, 10 Jack Brooks Rd.\, Hitchcock\, TX\, 77563\, United States
END:VEVENT
BEGIN:VEVENT
DTSTART;VALUE=DATE:20250927
DTEND;VALUE=DATE:20250928
DTSTAMP:20260422T224947
CREATED:20250725T210809Z
LAST-MODIFIED:20250725T210809Z
UID:1978-1758931200-1759017599@gypsy-mc.org
SUMMARY:Benefit for Hndlebarz and Gypsy Moonbug - Gypsy MC West
DESCRIPTION:
URL:https://gypsy-mc.org/event/benefit-for-hndlebarz-and-gypsy-moonbug-gypsy-mc-west/
LOCATION:308 Tavern\, 110 W Commerce St.\, Leroy\, TX\, 76640\, United States
END:VEVENT
END:VCALENDAR