BEGIN:VCALENDAR
VERSION:2.0
PRODID:-//Gypsy MC International - ECPv6.15.20//NONSGML v1.0//EN
CALSCALE:GREGORIAN
METHOD:PUBLISH
X-ORIGINAL-URL:https://gypsy-mc.org
X-WR-CALDESC:Events for Gypsy MC International
REFRESH-INTERVAL;VALUE=DURATION:PT1H
X-Robots-Tag:noindex
X-PUBLISHED-TTL:PT1H
BEGIN:VTIMEZONE
TZID:UTC
BEGIN:STANDARD
TZOFFSETFROM:+0000
TZOFFSETTO:+0000
TZNAME:UTC
DTSTART:20240101T000000
END:STANDARD
END:VTIMEZONE
BEGIN:VEVENT
DTSTART;VALUE=DATE:20250613
DTEND;VALUE=DATE:20250616
DTSTAMP:20260424T141436
CREATED:20250110T192753Z
LAST-MODIFIED:20250217T224701Z
UID:1769-1749772800-1750031999@gypsy-mc.org
SUMMARY:11th Annual Crossroads Rally - Gypsy MC Crossroads
DESCRIPTION:
URL:https://gypsy-mc.org/event/11th-annual-crossroads-rally-gypsy-crossroads/
LOCATION:Crossroads Club House\, 179 Church St\, Victoria\, TX\, 77905\, United States
END:VEVENT
BEGIN:VEVENT
DTSTART;VALUE=DATE:20250621
DTEND;VALUE=DATE:20250622
DTSTAMP:20260424T141436
CREATED:20250115T151703Z
LAST-MODIFIED:20250204T205040Z
UID:1775-1750464000-1750550399@gypsy-mc.org
SUMMARY:11th Annual Summertime Santa Toy Run - Gypsy MC League City
DESCRIPTION:
URL:https://gypsy-mc.org/event/11th-annual-summertime-santa-toy-run-gypsy-league-city/
LOCATION:Ronnie’s Hog Heaven Ice House\, 4355 FM 517\, Dickinson\, TX\, 77539\, United States
END:VEVENT
BEGIN:VEVENT
DTSTART;VALUE=DATE:20250627
DTEND;VALUE=DATE:20250630
DTSTAMP:20260424T141436
CREATED:20241115T225115Z
LAST-MODIFIED:20250225T161552Z
UID:1476-1750982400-1751241599@gypsy-mc.org
SUMMARY:51st Annual - Aardvark Rally - Gypsy MC San Antonio
DESCRIPTION:
URL:https://gypsy-mc.org/event/51st-annual-aardvark-rally-gypsy-mc-san-antonio/
LOCATION:Floresville River Park\, 1692 tx sh 97 west\, TX\, 78114\, United States
ORGANIZER;CN="Gypsy Lemon-aide":MAILTO:sagypsymc@yahoo.com
END:VEVENT
END:VCALENDAR