BEGIN:VCALENDAR
VERSION:2.0
PRODID:-//Gypsy MC International - ECPv6.15.20//NONSGML v1.0//EN
CALSCALE:GREGORIAN
METHOD:PUBLISH
X-ORIGINAL-URL:https://gypsy-mc.org
X-WR-CALDESC:Events for Gypsy MC International
REFRESH-INTERVAL;VALUE=DURATION:PT1H
X-Robots-Tag:noindex
X-PUBLISHED-TTL:PT1H
BEGIN:VTIMEZONE
TZID:UTC
BEGIN:STANDARD
TZOFFSETFROM:+0000
TZOFFSETTO:+0000
TZNAME:UTC
DTSTART:20250101T000000
END:STANDARD
END:VTIMEZONE
BEGIN:VEVENT
DTSTART;VALUE=DATE:20260703
DTEND;VALUE=DATE:20260706
DTSTAMP:20260422T224523
CREATED:20251010T152545Z
LAST-MODIFIED:20251010T152545Z
UID:2051-1783036800-1783295999@gypsy-mc.org
SUMMARY:38th Annual Fort Bend Anniversary – Gypsy MC Fort Bend
DESCRIPTION:
URL:https://gypsy-mc.org/event/38th-annual-fort-bend-anniversary-gypsy-mc-fort-bend/
LOCATION:TX
END:VEVENT
BEGIN:VEVENT
DTSTART;VALUE=DATE:20260710
DTEND;VALUE=DATE:20260713
DTSTAMP:20260422T224523
CREATED:20251010T152716Z
LAST-MODIFIED:20260403T142226Z
UID:2053-1783641600-1783900799@gypsy-mc.org
SUMMARY:36th Annual G.D.I. Motorcycle Rally – Gypsy MC River City
DESCRIPTION:
URL:https://gypsy-mc.org/event/36th-annual-g-d-i-motorcycle-rally-gypsy-mc-river-city/
LOCATION:Hill Country RV Resort and Event Center\, 17740 TX-16\, Medina\, TX\, 78055\, United States
END:VEVENT
BEGIN:VEVENT
DTSTART;VALUE=DATE:20260717
DTEND;VALUE=DATE:20260720
DTSTAMP:20260422T224523
CREATED:20251010T152847Z
LAST-MODIFIED:20251010T152847Z
UID:2055-1784246400-1784505599@gypsy-mc.org
SUMMARY:34th Annual Hot Damn – Gypsy MC Abilene
DESCRIPTION:
URL:https://gypsy-mc.org/event/34th-annual-hot-damn-gypsy-mc-abilene/
LOCATION:TX
END:VEVENT
BEGIN:VEVENT
DTSTART;VALUE=DATE:20260724
DTEND;VALUE=DATE:20260727
DTSTAMP:20260422T224523
CREATED:20251010T153101Z
LAST-MODIFIED:20251010T153101Z
UID:2057-1784851200-1785110399@gypsy-mc.org
SUMMARY:Burnout – Gypsy MC Nacogdoches
DESCRIPTION:
URL:https://gypsy-mc.org/event/burnout-gypsy-mc-nacogdoches-2/
LOCATION:TX
END:VEVENT
BEGIN:VEVENT
DTSTART;VALUE=DATE:20260731
DTEND;VALUE=DATE:20260803
DTSTAMP:20260422T224523
CREATED:20251112T145052Z
LAST-MODIFIED:20251112T145120Z
UID:2097-1785456000-1785715199@gypsy-mc.org
SUMMARY:20th Annual Surfside Beach Bash - Gypsy MC Surfside
DESCRIPTION:
URL:https://gypsy-mc.org/event/20th-annual-surfside-beach-bash-gypsy-mc-surfside/
LOCATION:TX
END:VEVENT
END:VCALENDAR