BEGIN:VCALENDAR
VERSION:2.0
PRODID:-//Gypsy MC International - ECPv6.15.20//NONSGML v1.0//EN
CALSCALE:GREGORIAN
METHOD:PUBLISH
X-ORIGINAL-URL:https://gypsy-mc.org
X-WR-CALDESC:Events for Gypsy MC International
REFRESH-INTERVAL;VALUE=DURATION:PT1H
X-Robots-Tag:noindex
X-PUBLISHED-TTL:PT1H
BEGIN:VTIMEZONE
TZID:UTC
BEGIN:STANDARD
TZOFFSETFROM:+0000
TZOFFSETTO:+0000
TZNAME:UTC
DTSTART:20250101T000000
END:STANDARD
END:VTIMEZONE
BEGIN:VEVENT
DTSTART;VALUE=DATE:20260905
DTEND;VALUE=DATE:20260908
DTSTAMP:20260423T003013
CREATED:20251010T184844Z
LAST-MODIFIED:20251010T184844Z
UID:2077-1788566400-1788825599@gypsy-mc.org
SUMMARY:Labor Day Bash and Lifer Party – Gypsy MC Big D
DESCRIPTION:
URL:https://gypsy-mc.org/event/labor-day-bash-and-lifer-party-gypsy-mc-big-d/
LOCATION:TX
END:VEVENT
BEGIN:VEVENT
DTSTART;VALUE=DATE:20260911
DTEND;VALUE=DATE:20260914
DTSTAMP:20260423T003013
CREATED:20251010T184231Z
LAST-MODIFIED:20251010T184231Z
UID:2072-1789084800-1789343999@gypsy-mc.org
SUMMARY:Mexico Mandatory
DESCRIPTION:
URL:https://gypsy-mc.org/event/mexico-mandatory-2/
LOCATION:TX
END:VEVENT
BEGIN:VEVENT
DTSTART;VALUE=DATE:20260919
DTEND;VALUE=DATE:20260920
DTSTAMP:20260423T003013
CREATED:20251010T185038Z
LAST-MODIFIED:20260327T202622Z
UID:2079-1789776000-1789862399@gypsy-mc.org
SUMMARY:13th Annual Leanderthal Birthday Bash – Gypsy MC Leander
DESCRIPTION:
URL:https://gypsy-mc.org/event/13th-annual-leanderthal-birthday-bash-gypsy-mc-leander/
LOCATION:The Roadhouse\, 1103 Wonder Dr.\, Round Rock\, TX\, United States
END:VEVENT
BEGIN:VEVENT
DTSTART;VALUE=DATE:20260925
DTEND;VALUE=DATE:20260928
DTSTAMP:20260423T003013
CREATED:20251010T185152Z
LAST-MODIFIED:20251010T185152Z
UID:2081-1790294400-1790553599@gypsy-mc.org
SUMMARY:Backwoods Biker Bash – Gypsy MC Dawson
DESCRIPTION:
URL:https://gypsy-mc.org/event/backwoods-biker-bash-gypsy-mc-dawson-2/
LOCATION:TX
END:VEVENT
END:VCALENDAR